Workbook

Sheet Summary
B2: Spreadsheet Cleanup Sample
B3: Customer orders export: before and after. All data is made up for demonstration. No client data.
B5: Overview | C5: Value | D5: Note
B6: Rows in raw export | C6: =COUNTA('Before (Raw)'!A2:A567) -> 552 | D6: Rows that had an Order ID
B7: Blank rows removed | C7: =COUNTIF('Change Log'!F2:F2987,"Blank row removed") -> 14 | D7: Empty rows scattered in the export
B8: Duplicate rows removed | C8: =COUNTIF('Change Log'!F2:F2987,"Duplicate row removed") -> 32 | D8: Same order entered twice
B9: Rows in clean file | C9: =COUNTA('After (Clean)'!A2:A521) -> 520 | D9: Unique orders
B10: Check: raw minus duplicates equals clean | C10: =IF(C6-C8=C9,"OK","CHECK") -> OK | D10: Reconciliation
B11: Total individual fixes logged | C11: =COUNTA('Change Log'!F2:F2987) -> 2986 | D11: Every change is listed in Change Log
B12: Total order value, clean file (PHP) | C12: =SUM('After (Clean)'!K2:K521) -> 2791599 | D12: Quantity x Unit Price
B15: Fixes by type | C15: Count | D15: What was done
B16: Blank email flagged | C16: =COUNTIF('Change Log'!F2:F2987,B16) -> 27
B17: Blank row removed | C17: =COUNTIF('Change Log'!F2:F2987,B17) -> 14
B18: Category spelling standardized | C18: =COUNTIF('Change Log'!F2:F2987,B18) -> 374
B19: City name standardized | C19: =COUNTIF('Change Log'!F2:F2987,B19) -> 346
B20: Currency symbol removed, converted to number | C20: =COUNTIF('Change Log'!F2:F2987,B20) -> 227
B21: Date format standardized | C21: =COUNTIF('Change Log'!F2:F2987,B21) -> 405
B22: Duplicate row removed | C22: =COUNTIF('Change Log'!F2:F2987,B22) -> 32
B23: Email lowercased | C23: =COUNTIF('Change Log'!F2:F2987,B23) -> 32
B24: Invalid email flagged | C24: =COUNTIF('Change Log'!F2:F2987,B24) -> 31
B25: Name spacing / casing fixed | C25: =COUNTIF('Change Log'!F2:F2987,B25) -> 256
B26: Payment method standardized | C26: =COUNTIF('Change Log'!F2:F2987,B26) -> 390
B27: Phone format standardized (09XXXXXXXXX) | C27: =COUNTIF('Change Log'!F2:F2987,B27) -> 396
B28: Status spelling standardized | C28: =COUNTIF('Change Log'!F2:F2987,B28) -> 411
B29: Units text removed from quantity | C29: =COUNTIF('Change Log'!F2:F2987,B29) -> 45
B32: How the data was cleaned
B33: 1. Kept the raw export untouched in the Before (Raw) tab.
B34: 2. Removed blank rows and duplicate orders.
B35: 3. Trimmed extra spaces and fixed name casing.
B36: 4. Converted every date to one format (YYYY-MM-DD) as real dates.
B37: 5. Standardized phone numbers, city names, categories, status and payment labels.
B38: 6. Stripped currency symbols and units so numbers calculate.
B39: 7. Flagged blank or invalid emails instead of guessing.
B40: 8. Added a Line Total formula and logged every change in Change Log.

Sheet Before (Raw)
A1: Order ID | B1: Order Date | C1: Customer Name | D1: City | E1: Phone | F1: Email | G1: Product | H1: Category | I1: Quantity | J1: Unit Price | K1: Status | L1: Payment
A2: ORD-1278 | B2: July 25, 2025 | C2: Arvin Reyes | D2: Malaybalay | E2: 0998 490 2770 | F2: arvin.reyes37@example.com | G2: Office Chair | H2: Furniture | I2: 22 | J2: PHP 2,350.00 | K2: cancelled | L2: BankTransfer
A3: ORD-1201 | B3: 12/27/2025 | C3: jose santos | D3: Davao | E3: +639218515691 | F3: jose.santos94@example.com | G3: Whiteboard Marker | H3: Stationery | I3: 10 | J3: ₱38 | K3: DELIVERED | L3: cash
A4: ORD-1498 | B4: 21-May-2025 | C4: REY AQUINO | D4: cebu city | E4: +639187758030 | F4: rey.aquino1@example.com | G4: Office Chair | H4: furniture | I4: 14 | J4: 2350 | K4: Done | L4: Gcash
A5: ORD-1330 | B5: 2025-07-03 | C5: paolo torres | D5: malaybalay city | E5: 0917-289-7526 | F5: paolo.torres29@example.com | G5: Notebook A5 | H5: Stationery | I5: 16 | J5: ₱85 | K5: Delivered | L5: cash
A6: ORD-1247 | B6: 12-Dec-2025 | C6: LEO SALAZAR | D6: butuan city | E6: 09846081062 | F6: leo.salazar97@example.com | G6: Office Chair | H6: Furnitures | I6: 22 | J6: 2350 | K6: delivered | L6: GCash
A7: ORD-1065 | B7: September 14, 2025 | C7: Ian Domingo | D7: Iligan | E7: 0942 474 5171 | F7: ian.domingo93@example.com | G7: USB Flash 32GB | H7: ELECTRONICS | I7: 25 pcs | J7: 290 | K7: cancelled | L7: bank transfer
A8: ORD-1237 | B8: February 27, 2025 | C8: Maria Ocampo | D8: cebu city | E8: 0967 014 5089 | F8: maria.ocampo67@example.com | G8: Wireless Mouse | H8: ELECTRONICS | I8: 22 | J8: 380 | K8: PENDING | L8: bank transfer
A9: ORD-1165 | B9: 11/11/2025 | C9: Arvin Garcia | D9: malaybalay city | E9: +639912513412 | F9: arvin.garcia54@example.com | G9: Folder Long | H9: Paper | I9: 23 | J9: 12 | K9: delivered | L9: G-Cash
A10: ORD-1434 | B10: February 02, 2025 | C10: RAMON CASTILLO | D10: cebu city | E10: 0936 442 4936 | F10: ramon.castillo32@example.com | G10: Desk Lamp | H10: Furnitures | I10: 4 | J10: 420 | K10: Done | L10: CASH
A11: ORD-1428 | B11: May 07, 2025 | C11: Eric Reyes | D11: malaybalay city | E11: 09349114152 | F11: eric.reyes85@example.com | G11: Printer Paper A4 | H11: Paper | I11: 18 | J11: PHP 260.00 | K11: Done | L11: GCash
A12: ORD-1217 | B12: 2025-03-30 | C12: Sheila Soriano | D12: Butuan | E12: +639330307053 | F12: SHEILA.SORIANO51@EXAMPLE.COM | G12: Notebook A5 | H12: Stationery | I12: 12 | J12: PHP 85.00 | K12: PENDING | L12: Bank transfer
... A33: ORD-1038 | B33: February 25, 2025 | C33: Noel Bautista | D33: davao city | E33: 0990 496 6319 | F33: noel.bautista88@example.com | G33: Folder Long | H33: PAPER | I33: 4 | J33: 12 | K33: delivered | L33: gcash
A34: ORD-1280 | B34: 01/08/2025 | C34: nina salazar | D34: Davao | E34: 0911 848 9554 | G34: USB Flash 32GB | H34: Electronic | I34: 20 | J34: 290 | K34: Cancelled | L34: gcash
A35: ORD-1403 | B35: 10/21/2025 | C35: Mylene Ramos | D35: CEBU | E35: 09297517028 | F35: mylene.ramos29@example.com | G35: Folder Long | H35: paper | I35: 10 | J35: ₱12 | K35: Delivered | L35: Bank transfer
A36: ORD-1391 | B36: 05/07/2025 | C36: Maria Castillo | D36: malaybalay city | E36: 09569392906 | F36: maria.castillo99@example.com | G36: Printer Paper A4 | H36: paper | I36: 2 | J36: 260 | K36: CANCELLED | L36: Bank transfer
A37: ORD-1229 | B37: 02-Nov-2025 | C37: RAMON NAVARRO | D37: malaybalay city | E37: 0985-625-7532 | F37: ramon.navarro17@example.com | G37: USB Flash 32GB | H37: Electronics | I37: 1 | J37: 290 | K37: Deliverd | L37: bank transfer
A38: ORD-1153 | B38: 2025-01-14 | C38: Dennis Soriano | D38: cebu city | E38: +639158199560 | F38: dennis.soriano93@example.com | G38: Ballpen Blue (12s) | H38: STATIONERY | I38: 14 | J38: 96 | K38: Done | L38: CASH
A39: ORD-1202 | B39: 2025-03-31 | C39: CARLO PASCUAL | D39: malaybalay city | E39: 0989 539 2644 | F39: carlo.pascual74@example.com | G39: Desk Lamp | H39: Furniture | I39: 6 | J39: 420 | K39: pending | L39: bank transfer
A40: ORD-1092 | B40: 2025-05-26 | C40: Jay Torres | D40: CEBU | E40: 0973-834-7359 | F40: jay.torres65@example.com | G40: Whiteboard Marker | H40: stationery | I40: 15 | J40: 38.00 | K40: Pnding | L40: gcash
A41: ORD-1084 | B41: 04/10/2025 | C41: Mylene Bautista | D41: Butuan | E41: 0955 231 2432 | F41: mylene.bautista23@example.com | G41: USB Flash 32GB | H41: ELECTRONICS | I41: 25 | J41: PHP 290.00 | K41: pending | L41: Cash
A42: ORD-1189 | B42: May 02, 2025 | C42: Ramon Bautista | D42: DAVAO CITY | E42: 0967-024-1038 | F42: ramon.bautista96@example.com | G42: USB Flash 32GB | H42: ELECTRONICS | I42: 23 pcs | J42: 290.00 | K42: cancelled | L42: G-Cash
A43: ORD-1380 | B43: 2025-01-19 | C43: NOEL SALAZAR | D43: Davao | E43: 0927 079 0320 | F43: noel.salazar13@example.com | G43: Ballpen Blue (12s) | H43: stationery | I43: 21 | J43: 96.00 | K43: Delivered | L43: G-Cash
A44: ORD-1472 | B44: August 23, 2025 | C44: grace castillo | D44: cebu city | E44: +639850720811 | F44: grace.castillo56@example.com | G44: Office Chair | H44: Furnitures | I44: 11 | J44: PHP 2,350.00 | K44: Done | L44: Cash
A46: ORD-1274 | B46: 2025-10-06 | C46: Paolo Cruz | D46: Iligan | E46: 09643009818 | F46: paolo.cruz41@example.com | G46: Whiteboard Marker | H46: STATIONERY | I46: 13 | J46: 38 | K46: DELIVERED | L46: bank transfer
A47: ORD-1049 | B47: May 16, 2025 | C47: Rey Navarro | D47: Cagayan De Oro City | E47: 09936183242 | F47: rey.navarro77@example.com | G47: Printer Paper A4 | H47: paper | I47: 2 | J47: 260 | K47: DELIVERED | L47: gcash
... A70: ORD-1436 | B70: February 12, 2025 | C70: Noel Pascual | D70: cagayan de oro | E70: 0959 416 5162 | F70: noel.pascual16@example.com | G70: Notebook A5 | H70: Stationery | I70: 4 | J70: 85 | K70: Done | L70: Bank Transfer
A71: ORD-1502 | B71: 2025-05-31 | C71: JAY REYES | D71: butuan city | E71: 0966-196-3990 | G71: Notebook A5 | H71: Stationary | I71: 13 | J71: 85 | K71: Delivered | L71: gcash
A72: ORD-1390 | B72: 06/01/2025 | C72: Carlo Garcia | D72: iligan city | E72: 0992-929-8316 | F72: carlo.garcia36@example.com | G72: Printer Paper A4 | H72: Paper | I72: 7 | J72: 260.00 | K72: delivered | L72: Gcash
A73: ORD-1141 | B73: 17-Apr-2025 | C73: Jay Domingo | D73: davao city | E73: 0954 033 1739 | F73: jay.domingo42@example.com | G73: Wireless Mouse | H73: Electronics | I73: 13 | J73: 380 | K73: Canceled | L73: BankTransfer
A74: ORD-1302 | B74: 08-May-2025 | C74: Faye Villanueva | D74: cagayan de oro | E74: 0967-303-7183 | F74: faye.villanueva42@example.com | G74: Ballpen Blue (12s) | H74: Stationary | I74: 13 | J74: 96 | K74: delivered | L74: gcash
A75: ORD-1122 | B75: November 09, 2025 | C75: Joy Domingo | D75: ILIGAN | E75: 0973 348 4344 | F75: joy.domingo62@example.com | G75: Folder Long | H75: Paper | I75: 23 | J75: 12 | K75: Pnding | L75: Gcash
A76: ORD-1149 | B76: 2025-12-03 | C76: Dan Flores | D76: butuan city | E76: +639025039261 | F76: dan.flores50@example.com | G76: Whiteboard Marker | H76: Stationery | I76: 6 | J76: PHP 38.00 | K76: Done | L76: bank transfer
A77: ORD-1119 | B77: 09-Jan-2025 | C77: Leo Salazar | D77: Iligan | E77: +639551694097 | F77: leo.salazar74@example.com | G77: Wireless Mouse | H77: electronics | I77: 21 pcs | J77: PHP 380.00 | K77: PENDING | L77: BankTransfer
A78: ORD-1102 | B78: 06/14/2025 | C78: Arvin Garcia | D78: Butuan | E78: 0911-544-7962 | F78: arvin.garcia46example.com | G78: Folder Long | H78: paper | I78: 12 | J78: 12 | K78: delivered | L78: Bank transfer
A79: ORD-1146 | B79: September 29, 2025 | C79: Dennis Castillo | D79: CDO | E79: 0948 408 6211 | F79: dennis.castillo33@example.com | G79: Notebook A5 | H79: stationery | I79: 8 | J79: ₱85 | K79: Delivered | L79: BankTransfer
A80: ORD-1342 | B80: 11/09/2025 | C80: Noel Pascual | D80: Cebu | E80: 0934-301-0713 | F80: noel.pascual72@example.com | G80: Stapler | H80: Office Supplies | I80: 14 | J80: PHP 150.00 | K80: DELIVERED | L80: G-Cash
A81: ORD-1061 | B81: 2025-11-14 | C81: Mark Cruz | D81: Butuan | E81: 09379237474 | F81: mark.cruz70@example.com | G81: Office Chair | H81: furniture | I81: 15 | J81: PHP 2,350.00 | K81: Cancelled | L81: bank transfer
A82: ORD-1005 | B82: 10/01/2025 | C82: Mylene Cruz | D82: butuan city | E82: 0932 764 8350 | F82: mylene.cruz35@example.com | G82: Stapler | H82: Office Supplies | I82: 2 | J82: 150 | K82: Pnding | L82: gcash
A83: ORD-1342 | B83: 11/09/2025 | C83: Noel Pascual | D83: Cebu | E83: 0934-301-0713 | F83: noel.pascual72@example.com | G83: Stapler | H83: Office Supplies | I83: 14 | J83: PHP 150.00 | K83: DELIVERED | L83: G-Cash
...

Sheet After (Clean)
A1: Order ID | B1: Order Date | C1: Customer Name | D1: City | E1: Phone | F1: Email | G1: Product | H1: Category | I1: Quantity | J1: Unit Price (PHP) | K1: Line Total (PHP) | L1: Status | M1: Payment
A2: ORD-1001 | B2: 45783 | C2: Mylene Bautista | D2: Cagayan de Oro | E2: 09321819600 | F2: mylene.bautista4@example.com | G2: Folder Long | H2: Paper | I2: 7 | J2: 12 | K2: =I2*J2 -> 84 | L2: Delivered | M2: Bank Transfer
A3: ORD-1002 | B3: 45872 | C3: Dennis Mendoza | D3: Malaybalay | E3: 09379402654 | F3: dennis.mendoza14@example.com | G3: USB Flash 32GB | H3: Electronics | I3: 7 | J3: 290 | K3: =I3*J3 -> 2030 | L3: Cancelled | M3: GCash
A4: ORD-1003 | B4: 45834 | C4: Ana Villanueva | D4: Cagayan de Oro | E4: 09940781618 | F4: ana.villanueva74@example.com | G4: Desk Lamp | H4: Furniture | I4: 21 | J4: 420 | K4: =I4*J4 -> 8820 | L4: Delivered | M4: GCash
A5: ORD-1004 | B5: 45806 | C5: Liza Cruz | D5: Cagayan de Oro | E5: 09131647525 | F5: liza.cruz88@example.com | G5: Printer Paper A4 | H5: Paper | I5: 7 | J5: 260 | K5: =I5*J5 -> 1820 | L5: Delivered | M5: Bank Transfer
A6: ORD-1005 | B6: 45931 | C6: Mylene Cruz | D6: Butuan | E6: 09327648350 | F6: mylene.cruz35@example.com | G6: Stapler | H6: Office Supplies | I6: 2 | J6: 150 | K6: =I6*J6 -> 300 | L6: Pending | M6: GCash
A7: ORD-1006 | B7: 45766 | C7: Ana Mendoza | D7: Butuan | E7: 09767242388 | F7: ana.mendoza52@example.com | G7: Desk Lamp | H7: Furniture | I7: 24 | J7: 420 | K7: =I7*J7 -> 10080 | L7: Delivered | M7: Bank Transfer
A8: ORD-1007 | B8: 45910 | C8: Eric Torres | D8: Davao | E8: 09101226916 | F8: eric.torres33@example.com | G8: USB Flash 32GB | H8: Electronics | I8: 20 | J8: 290 | K8: =I8*J8 -> 5800 | L8: Cancelled | M8: Bank Transfer
A9: ORD-1008 | B9: 46007 | C9: Dennis Santos | D9: Malaybalay | E9: 09845146270 | F9: dennis.santos14@example.com | G9: Ballpen Blue (12s) | H9: Stationery | I9: 17 | J9: 96 | K9: =I9*J9 -> 1632 | L9: Pending | M9: Bank Transfer
A10: ORD-1009 | B10: 45969 | C10: Rey Ramos | D10: Malaybalay | E10: 09325288095 | F10: rey.ramos40@example.com | G10: USB Flash 32GB | H10: Electronics | I10: 1 | J10: 290 | K10: =I10*J10 -> 290 | L10: Delivered | M10: GCash
A11: ORD-1010 | B11: 45698 | C11: Paolo Reyes | D11: Davao | E11: 09171822782 | F11: paolo.reyes28@example.com | G11: Whiteboard Marker | H11: Stationery | I11: 17 | J11: 38 | K11: =I11*J11 -> 646 | L11: Pending | M11: GCash
A12: ORD-1011 | B12: 45817 | C12: Dan Domingo | D12: Malaybalay | E12: 09657871331 | F12: dan.domingo76@example.com | G12: Printer Paper A4 | H12: Paper | I12: 1 | J12: 260 | K12: =I12*J12 -> 260 | L12: Delivered | M12: Cash
A13: ORD-1012 | B13: 45775 | C13: Paolo Santos | D13: Cagayan de Oro | E13: 09105183473 | F13: paolo.santos74@example.com | G13: Notebook A5 | H13: Stationery | I13: 24 | J13: 85 | K13: =I13*J13 -> 2040 | L13: Cancelled | M13: Bank Transfer
... A521: ORD-1520 | B521: 45858 | C521: Mylene Lim | D521: Butuan | E521: 09636186371 | F521: mylene.lim39@example.com | G521: Whiteboard Marker | H521: Stationery | I521: 19 | J521: 38 | K521: =I521*J521 -> 722 | L521: Cancelled | M521: Bank Transfer

Sheet Change Log
A1: Raw Row # | B1: Order ID | C1: Column | D1: Before | E1: After | F1: Fix Type
A2: 2 | B2: ORD-1278 | C2: Order Date | D2: July 25, 2025 | E2: 2025-07-25 | F2: Date format standardized
A3: 2 | B3: ORD-1278 | C3: Phone | D3: 0998 490 2770 | E3: 09984902770 | F3: Phone format standardized (09XXXXXXXXX)
A4: 2 | B4: ORD-1278 | C4: Unit Price | D4: PHP 2,350.00 | E4: 2350 | F4: Currency symbol removed, converted to number
A5: 2 | B5: ORD-1278 | C5: Status | D5: cancelled | E5: Cancelled | F5: Status spelling standardized
A6: 2 | B6: ORD-1278 | C6: Payment | D6: BankTransfer | E6: Bank Transfer | F6: Payment method standardized
A7: 3 | B7: ORD-1201 | C7: Order Date | D7: 12/27/2025 | E7: 2025-12-27 | F7: Date format standardized
A8: 3 | B8: ORD-1201 | C8: Customer Name | D8: jose santos | E8: Jose Santos | F8: Name spacing / casing fixed
A9: 3 | B9: ORD-1201 | C9: Phone | D9: +639218515691 | E9: 09218515691 | F9: Phone format standardized (09XXXXXXXXX)
A10: 3 | B10: ORD-1201 | C10: Unit Price | D10: ₱38 | E10: 38 | F10: Currency symbol removed, converted to number
A11: 3 | B11: ORD-1201 | C11: Status | D11: DELIVERED | E11: Delivered | F11: Status spelling standardized
A12: 3 | B12: ORD-1201 | C12: Payment | D12: cash | E12: Cash | F12: Payment method standardized
A13: 4 | B13: ORD-1498 | C13: Order Date | D13: 21-May-2025 | E13: 2025-05-21 | F13: Date format standardized
... A105: 22 | B105: ORD-1361 | C105: Order ID | D105: ORD-1361 | E105: (removed) | F105: Duplicate row removed
A106: 23 | C106: (entire row) | D106: (empty) | E106: (removed) | F106: Blank row removed
A107: 24 | B107: ORD-1465 | C107: Order Date | D107: February 02, 2025 | E107: 2025-02-02 | F107: Date format standardized
A108: 24 | B108: ORD-1465 | C108: Customer Name | D108: carlo salazar | E108: Carlo Salazar | F108: Name spacing / casing fixed
A109: 24 | B109: ORD-1465 | C109: City | D109: ILIGAN | E109: Iligan | F109: City name standardized
A110: 24 | B110: ORD-1465 | C110: Status | D110: DELIVERED | E110: Delivered | F110: Status spelling standardized
A111: 24 | B111: ORD-1465 | C111: Payment | D111: CASH | E111: Cash | F111: Payment method standardized
A112: 25 | B112: ORD-1041 | C112: Phone | D112: +639650752735 | E112: 09650752735 | F112: Phone format standardized (09XXXXXXXXX)
A113: 25 | B113: ORD-1041 | C113: Category | D113: stationery | E113: Stationery | F113: Category spelling standardized
A114: 25 | B114: ORD-1041 | C114: Unit Price | D114: ₱38 | E114: 38 | F114: Currency symbol removed, converted to number
A115: 25 | B115: ORD-1041 | C115: Status | D115: DELIVERED | E115: Delivered | F115: Status spelling standardized
A116: 25 | B116: ORD-1041 | C116: Payment | D116: Bank transfer | E116: Bank Transfer | F116: Payment method standardized
A117: 26 | B117: ORD-1068 | C117: Order Date | D117: 18-Jul-2025 | E117: 2025-07-18 | F117: Date format standardized
A118: 26 | B118: ORD-1068 | C118: Customer Name | D118: juan torres | E118: Juan Torres | F118: Name spacing / casing fixed
... A216: 44 | B216: ORD-1472 | C216: Status | D216: Done | E216: Delivered | F216: Status spelling standardized
A217: 45 | C217: (entire row) | D217: (empty) | E217: (removed) | F217: Blank row removed
A218: 46 | B218: ORD-1274 | C218: Category | D218: STATIONERY | E218: Stationery | F218: Category spelling standardized
A219: 46 | B219: ORD-1274 | C219: Status | D219: DELIVERED | E219: Delivered | F219: Status spelling standardized
A220: 46 | B220: ORD-1274 | C220: Payment | D220: bank transfer | E220: Bank Transfer | F220: Payment method standardized
A221: 47 | B221: ORD-1049 | C221: Order ID | D221: ORD-1049 | E221: (removed) | F221: Duplicate row removed
A222: 48 | B222: ORD-1263 | C222: Order Date | D222: May 15, 2025 | E222: 2025-05-15 | F222: Date format standardized
A223: 48 | B223: ORD-1263 | C223: Customer Name | D223: REY OCAMPO | E223: Rey Ocampo | F223: Name spacing / casing fixed
A224: 48 | B224: ORD-1263 | C224: City | D224: butuan city | E224: Butuan | F224: City name standardized
A225: 48 | B225: ORD-1263 | C225: Phone | D225: 0911 080 9969 | E225: 09110809969 | F225: Phone format standardized (09XXXXXXXXX)
A226: 48 | B226: ORD-1263 | C226: Email | D226: REY.OCAMPO70@EXAMPLE.COM | E226: rey.ocampo70@example.com | F226: Email lowercased
A227: 48 | B227: ORD-1263 | C227: Category | D227: paper | E227: Paper | F227: Category spelling standardized
A228: 48 | B228: ORD-1263 | C228: Quantity | D228: 2 pcs | E228: 2 | F228: Units text removed from quantity
...
